BEGIN:VCALENDAR
VERSION:2.0
PRODID:-//Early Childhood Innovation Center - ECPv6.15.20//NONSGML v1.0//EN
CALSCALE:GREGORIAN
METHOD:PUBLISH
X-WR-CALNAME:Early Childhood Innovation Center
X-ORIGINAL-URL:https://ecic.desu.edu
X-WR-CALDESC:Events for Early Childhood Innovation Center
REFRESH-INTERVAL;VALUE=DURATION:PT1H
X-Robots-Tag:noindex
X-PUBLISHED-TTL:PT1H
BEGIN:VTIMEZONE
TZID:America/New_York
BEGIN:DAYLIGHT
TZOFFSETFROM:-0500
TZOFFSETTO:-0400
TZNAME:EDT
DTSTART:20240310T070000
END:DAYLIGHT
BEGIN:STANDARD
TZOFFSETFROM:-0400
TZOFFSETTO:-0500
TZNAME:EST
DTSTART:20241103T060000
END:STANDARD
BEGIN:DAYLIGHT
TZOFFSETFROM:-0500
TZOFFSETTO:-0400
TZNAME:EDT
DTSTART:20250309T070000
END:DAYLIGHT
BEGIN:STANDARD
TZOFFSETFROM:-0400
TZOFFSETTO:-0500
TZNAME:EST
DTSTART:20251102T060000
END:STANDARD
BEGIN:DAYLIGHT
TZOFFSETFROM:-0500
TZOFFSETTO:-0400
TZNAME:EDT
DTSTART:20260308T070000
END:DAYLIGHT
BEGIN:STANDARD
TZOFFSETFROM:-0400
TZOFFSETTO:-0500
TZNAME:EST
DTSTART:20261101T060000
END:STANDARD
END:VTIMEZONE
BEGIN:VEVENT
DTSTART;TZID=America/New_York:20251104T180000
DTEND;TZID=America/New_York:20251104T200000
DTSTAMP:20260422T083353
CREATED:20251028T203004Z
LAST-MODIFIED:20251104T202753Z
UID:2430-1762279200-1762286400@ecic.desu.edu
SUMMARY:CDA® Scholarship & Quorum Information and Application Support Session
DESCRIPTION:The Early Childhood Innovation Center (ECIC) at Delaware State University invites you to our upcoming in-person CDA® Scholarship & Quorum Information and Application Support Session\, a hands-on event designed to guide you through the process of applying for CDA® scholarship and registering on Quorum for free professional learning opportunities.  \n\n\n\nWhether you are starting your CDA® journey or preparing to advance your career\, this session will provide the tools\, support\, and guidance you need to succeed.  \n\n\n\n \n\n\n\nDuring this session\, you will: \n\n\n\nAsk questions about eligibility\, requirements\, and next steps \n\n\n\nLearn how to apply for the CDA® Scholarship \n\n\n\nAccess free professional learning through Quorum \n\n\n\n\nReceive one on one application support from the ECIC staff \n\n\n\n\n \n\n\n\n \n\n\n\nVenueEarly Childhood Innovation Center \n\n\n\n Delaware State University  \n\n\n\n1200 N. Dupont Highway \n\n\n\nDover\, DE 19901
URL:https://ecic.desu.edu/event/cda-scholarship-quoruminformation-and-application-support-session/
ATTACH;FMTTYPE=image/png:https://ecic.desu.edu/wp-content/uploads/2025/10/Green-and-White-Modern-Home-Tutoring-Session-Instagram-Post-2.png
END:VEVENT
BEGIN:VEVENT
DTSTART;TZID=America/New_York:20251108T000000
DTEND;TZID=America/New_York:20251108T003000
DTSTAMP:20260422T083354
CREATED:20251104T160947Z
LAST-MODIFIED:20251104T160951Z
UID:2465-1762560000-1762561800@ecic.desu.edu
SUMMARY:Early Child Care Resource Center
DESCRIPTION:Kent County’s early child care providers play a vital role in shaping Delaware’s future. The ECIC Early Child Care Resource Center is here to ensure you have the resources\, tools\, and guidance to continue making that difference every day. \n\n\n\n \n\n\n\nJoin us for a hands-on experience that connects you with the support you need to grow from CDA® and Quorum application guidance to creative tools\, collaboration spaces\, and personalized career advisement. This is your opportunity to connect\, learn\, and take advantage of everything the Resource Center offers to strengthen your work and your impact. \n\n\n\n \n\n\n\n📅 Saturday\, November 8th\, 2025⏰ 10:00 AM – 12:30 PM📍 Early Childhood Innovation Center\, Delaware State University1200 N. Dupont Highway\, Dover\, DE 19901
URL:https://ecic.desu.edu/event/early-child-care-resource-center/
ATTACH;FMTTYPE=image/jpeg:https://ecic.desu.edu/wp-content/uploads/2025/11/Image-10.jpeg
END:VEVENT
BEGIN:VEVENT
DTSTART;TZID=America/New_York:20251113T180000
DTEND;TZID=America/New_York:20251113T200000
DTSTAMP:20260422T083354
CREATED:20251113T193148Z
LAST-MODIFIED:20251113T195556Z
UID:2475-1763056800-1763064000@ecic.desu.edu
SUMMARY:CDA® Scholarship & Quorum Information and Application Support Session
DESCRIPTION:Join the Early Childhood Innovation Center (ECIC) for an in-person Child Development Associate(CDA®) Scholarship & Quorum Information and Application Support Session at Stubbs Early Learning Center in Wilmington.Get personalized guidance to start or advance your Child Development Associate(CDA®) journey\, learn how to access free professional development through Quorum\, and receive one-on-one support from the ECIC team.Your journey toward professional growth starts here and we’re here to guide you every step of the way.📅 Thursday\, November 13\, 2025🕕 6:00 PM – 8:00 PM📍 Stubbs Early Learning Center1100 N. Pine Street\, Wilmington\, DE 19801
URL:https://ecic.desu.edu/event/cda-scholarship-quorum-information-and-application-support-session/
ATTACH;FMTTYPE=image/png:https://ecic.desu.edu/wp-content/uploads/2025/11/Blue-and-Yellow-Modern-Home-Tutoring-Session-Facebook-Post-8.png
END:VEVENT
BEGIN:VEVENT
DTSTART;TZID=America/New_York:20251115T113000
DTEND;TZID=America/New_York:20251115T140000
DTSTAMP:20260422T083354
CREATED:20251029T161150Z
LAST-MODIFIED:20251029T161154Z
UID:2442-1763206200-1763215200@ecic.desu.edu
SUMMARY:1st State Family Childcare Association Potluck in conjunction with the Early Childhood Innovation Center (ECIC)
DESCRIPTION:🍁 Calling All Family Childcare Providers! 🍂 \n\n\n\nYou’re invited to the 1st State Family Childcare Association Potluckin conjunction with the Early Childhood Innovation Center (ECIC)! \n\n\n\nCome connect with fellow family childcare professionals from across Delaware for an afternoon of food\, fellowship\, fun\, and giveaways!It’s a chance to relax\, share stories\, and celebrate the amazing work you do every day for Delaware’s children and families. 💙 \n\n\n\n📅 Saturday\, November 15th🕦 11:30 AM – 2:00 PM📍 Early Childhood Innovation Center \n\n\n\n      Delaware State University \n\n\n\n      1200 N DuPont Highway\, Dover\, DE 19901 \n\n\n\n✨ Don’t miss this opportunity to unwind\, network\, and be part of a growing community that supports and uplifts family childcare providers. \n\n\n\nRSVP to Stephanie Jackson or Latonya Bruce at 1ststatefcca@gmail.com
URL:https://ecic.desu.edu/event/1st-state-family-childcare-association-potluck-in-conjunction-with-the-early-childhood-innovation-center-ecic/
ATTACH;FMTTYPE=image/jpeg:https://ecic.desu.edu/wp-content/uploads/2025/10/IMG_2509.jpg
END:VEVENT
BEGIN:VEVENT
DTSTART;TZID=America/New_York:20251127T000000
DTEND;TZID=America/New_York:20251127T235959
DTSTAMP:20260422T083354
CREATED:20251114T190154Z
LAST-MODIFIED:20251114T190159Z
UID:2483-1764201600-1764287999@ecic.desu.edu
SUMMARY:We are closed for Thanksgiving
DESCRIPTION:
URL:https://ecic.desu.edu/event/we-are-closed-for-thanksgiving/
ATTACH;FMTTYPE=image/png:https://ecic.desu.edu/wp-content/uploads/2025/11/Orange-and-White-Closed-on-Thanksgiving-Facebook-Post.png
END:VEVENT
END:VCALENDAR