BEGIN:VCALENDAR
VERSION:2.0
PRODID:-//Early Childhood Innovation Center - ECPv6.15.20//NONSGML v1.0//EN
CALSCALE:GREGORIAN
METHOD:PUBLISH
X-WR-CALNAME:Early Childhood Innovation Center
X-ORIGINAL-URL:https://ecic.desu.edu/es
X-WR-CALDESC:Eventos para Early Childhood Innovation Center
REFRESH-INTERVAL;VALUE=DURATION:PT1H
X-Robots-Tag:noindex
X-PUBLISHED-TTL:PT1H
BEGIN:VTIMEZONE
TZID:America/New_York
BEGIN:DAYLIGHT
TZOFFSETFROM:-0500
TZOFFSETTO:-0400
TZNAME:EDT
DTSTART:20250309T070000
END:DAYLIGHT
BEGIN:STANDARD
TZOFFSETFROM:-0400
TZOFFSETTO:-0500
TZNAME:EST
DTSTART:20251102T060000
END:STANDARD
BEGIN:DAYLIGHT
TZOFFSETFROM:-0500
TZOFFSETTO:-0400
TZNAME:EDT
DTSTART:20260308T070000
END:DAYLIGHT
BEGIN:STANDARD
TZOFFSETFROM:-0400
TZOFFSETTO:-0500
TZNAME:EST
DTSTART:20261101T060000
END:STANDARD
BEGIN:DAYLIGHT
TZOFFSETFROM:-0500
TZOFFSETTO:-0400
TZNAME:EDT
DTSTART:20270314T070000
END:DAYLIGHT
BEGIN:STANDARD
TZOFFSETFROM:-0400
TZOFFSETTO:-0500
TZNAME:EST
DTSTART:20271107T060000
END:STANDARD
END:VTIMEZONE
BEGIN:VEVENT
DTSTART;TZID=America/New_York:20260119T080000
DTEND;TZID=America/New_York:20260119T170000
DTSTAMP:20260422T050851
CREATED:20260114T195414Z
LAST-MODIFIED:20260114T200032Z
UID:2591-1768809600-1768842000@ecic.desu.edu
SUMMARY:We Are Closed for MLK Day
DESCRIPTION:In observance of MLK Day\, our offices are closed today\, January 20\, 2026.
URL:https://ecic.desu.edu/es/event/we-are-closed/
ATTACH;FMTTYPE=image/png:https://ecic.desu.edu/wp-content/uploads/2026/01/USA-Martin-Luther-King-jr.-day-Instagram-Post-2.png
END:VEVENT
END:VCALENDAR