BEGIN:VCALENDAR
VERSION:2.0
PRODID:-//Early Childhood Innovation Center - ECPv6.15.20//NONSGML v1.0//EN
CALSCALE:GREGORIAN
METHOD:PUBLISH
X-WR-CALNAME:Early Childhood Innovation Center
X-ORIGINAL-URL:https://ecic.desu.edu/es
X-WR-CALDESC:Eventos para Early Childhood Innovation Center
REFRESH-INTERVAL;VALUE=DURATION:PT1H
X-Robots-Tag:noindex
X-PUBLISHED-TTL:PT1H
BEGIN:VTIMEZONE
TZID:America/New_York
BEGIN:DAYLIGHT
TZOFFSETFROM:-0500
TZOFFSETTO:-0400
TZNAME:EDT
DTSTART:20240310T070000
END:DAYLIGHT
BEGIN:STANDARD
TZOFFSETFROM:-0400
TZOFFSETTO:-0500
TZNAME:EST
DTSTART:20241103T060000
END:STANDARD
BEGIN:DAYLIGHT
TZOFFSETFROM:-0500
TZOFFSETTO:-0400
TZNAME:EDT
DTSTART:20250309T070000
END:DAYLIGHT
BEGIN:STANDARD
TZOFFSETFROM:-0400
TZOFFSETTO:-0500
TZNAME:EST
DTSTART:20251102T060000
END:STANDARD
BEGIN:DAYLIGHT
TZOFFSETFROM:-0500
TZOFFSETTO:-0400
TZNAME:EDT
DTSTART:20260308T070000
END:DAYLIGHT
BEGIN:STANDARD
TZOFFSETFROM:-0400
TZOFFSETTO:-0500
TZNAME:EST
DTSTART:20261101T060000
END:STANDARD
END:VTIMEZONE
BEGIN:VEVENT
DTSTART;TZID=America/New_York:20251206T123000
DTEND;TZID=America/New_York:20251206T143000
DTSTAMP:20260422T064518
CREATED:20251201T200517Z
LAST-MODIFIED:20251201T200522Z
UID:2521-1765024200-1765031400@ecic.desu.edu
SUMMARY:ECIC RESOURCE CENTER
DESCRIPTION:Join us for a hands-on experience that connects you with the support you need to grow from CDA® and Quorum application guidance to creative tools\, collaboration spaces\, and personalized career advisement. This is your opportunity to connect\, learn\, and take advantage of everything the Resource Center offers to strengthen your work and your impact. \n\n\n\n📅 Saturday\, December 6th\, 2025⏰ 12:30 PM – 02:30 PM📍 Early Childhood Innovation Center\, Delaware State University1200 N. Dupont Highway\, Dover\, DE 19901 \n\n\n\n💙 Together\, we’re building a stronger early childhood workforce  one educator at a time.
URL:https://ecic.desu.edu/es/event/ecic-resource-center/
ATTACH;FMTTYPE=image/png:https://ecic.desu.edu/wp-content/uploads/2025/12/RESOURCE-CENTER-FLYER-4.png
END:VEVENT
END:VCALENDAR