BEGIN:VCALENDAR
VERSION:2.0
PRODID:-//Early Childhood Innovation Center - ECPv6.15.20//NONSGML v1.0//EN
CALSCALE:GREGORIAN
METHOD:PUBLISH
X-ORIGINAL-URL:https://ecic.desu.edu/es
X-WR-CALDESC:Eventos para Early Childhood Innovation Center
REFRESH-INTERVAL;VALUE=DURATION:PT1H
X-Robots-Tag:noindex
X-PUBLISHED-TTL:PT1H
BEGIN:VTIMEZONE
TZID:America/New_York
BEGIN:DAYLIGHT
TZOFFSETFROM:-0500
TZOFFSETTO:-0400
TZNAME:EDT
DTSTART:20240310T070000
END:DAYLIGHT
BEGIN:STANDARD
TZOFFSETFROM:-0400
TZOFFSETTO:-0500
TZNAME:EST
DTSTART:20241103T060000
END:STANDARD
BEGIN:DAYLIGHT
TZOFFSETFROM:-0500
TZOFFSETTO:-0400
TZNAME:EDT
DTSTART:20250309T070000
END:DAYLIGHT
BEGIN:STANDARD
TZOFFSETFROM:-0400
TZOFFSETTO:-0500
TZNAME:EST
DTSTART:20251102T060000
END:STANDARD
BEGIN:DAYLIGHT
TZOFFSETFROM:-0500
TZOFFSETTO:-0400
TZNAME:EDT
DTSTART:20260308T070000
END:DAYLIGHT
BEGIN:STANDARD
TZOFFSETFROM:-0400
TZOFFSETTO:-0500
TZNAME:EST
DTSTART:20261101T060000
END:STANDARD
END:VTIMEZONE
BEGIN:VEVENT
DTSTART;TZID=America/New_York:20251203T100000
DTEND;TZID=America/New_York:20251203T120000
DTSTAMP:20260422T064723
CREATED:20251121T193519Z
LAST-MODIFIED:20251121T193523Z
UID:2499-1764756000-1764763200@ecic.desu.edu
SUMMARY:ECE DIRECTORS' SYMPOSIUM
DESCRIPTION:The Early Childhood Innovation Center (ECIC) extends an invitation to join us for our upcoming Director’s Symposium\, a collaborative engagement designed to support and strengthen Delaware’s early childhood leadership community.Event DetailsDate: Wednesday\, December 3\, 2025Time: 10:00 a.m. – 12:00 p.m.Location: Early Childhood Innovation Center1200 N. DuPont HighwayDover\, DE 19901
URL:https://ecic.desu.edu/es/event/ece-directors-symposium/
ATTACH;FMTTYPE=image/png:https://ecic.desu.edu/wp-content/uploads/2025/11/Green-and-Yellow-Geometric-Mental-Health-Webinar-Instagram-Post.png
END:VEVENT
END:VCALENDAR